BEGIN:VCALENDAR
VERSION:2.0
PRODID:-//Tukios.com/
BEGIN:VEVENT
UID:99650211-6a96-4508-92ea-0f8e0197be4b@www.chosenfuneralhome.com
DTSTAMP:20260422T120244Z
DTSTART:20260422T170000Z
DTEND:20260422T180000Z
SUMMARY:Burial
DESCRIPTION:
URL:https://www.chosenfuneralhome.com/obituaries/warren-webb
LOCATION:Heritage Memorial Cemetery Llc 13472 Poplar Hill Rd  Waldorf MD 
	20601
GEO:38.6149482;-76.8416025
END:VEVENT
END:VCALENDAR