BEGIN:VCALENDAR
VERSION:2.0
PRODID:-//Tukios.com/
BEGIN:VEVENT
UID:a4a4dad1-c724-498c-8f0e-d473b1305dbf@www.chosenfuneralhome.com
DTSTAMP:20260422T120750Z
DTSTART:20260422T150000Z
DTEND:20260422T163000Z
SUMMARY:Funeral Service
DESCRIPTION:
URL:https://www.chosenfuneralhome.com/obituaries/warren-webb
LOCATION: 5200 Temple Hill Rd  Temple Hills MD 20748
GEO:38.8143126;-76.9408171
END:VEVENT
END:VCALENDAR