BEGIN:VCALENDAR
VERSION:2.0
PRODID:-//Tukios.com/
BEGIN:VEVENT
UID:8de5686c-d174-402f-a4fa-3b8326a85ced@www.chosenfuneralhome.com
DTSTAMP:20260422T120737Z
DTSTART:20260422T140000Z
DTEND:20260422T150000Z
SUMMARY:Viewing
DESCRIPTION:
URL:https://www.chosenfuneralhome.com/obituaries/warren-webb
LOCATION: 5200 Temple Hill Rd  Temple Hills MD 20748
GEO:38.8143126;-76.9408171
END:VEVENT
END:VCALENDAR