BEGIN:VCALENDAR
VERSION:2.0
PRODID:-//Tukios.com/
BEGIN:VEVENT
UID:b7d61243-5b4b-4b5c-b31a-34e05780a88d@www.chosenfuneralhome.com
DTSTAMP:20260423T013424Z
DTSTART:20260425T170000Z
DTEND:20260425T180000Z
SUMMARY:Burial
DESCRIPTION:
URL:https://www.chosenfuneralhome.com/obituaries/joy-ann-barrow
LOCATION: 13472 Poplar Hill Rd  Waldorf MD 20601
GEO:38.6149482;-76.8416025
END:VEVENT
END:VCALENDAR