BEGIN:VCALENDAR
VERSION:2.0
PRODID:-//Tukios.com/
BEGIN:VEVENT
UID:cd8ab685-b273-4c79-9217-1355ece5cbc8@www.chosenfuneralhome.com
DTSTAMP:20260423T013301Z
DTSTART:20260425T150000Z
DTEND:20260425T163000Z
SUMMARY:Funeral Service
DESCRIPTION:
URL:https://www.chosenfuneralhome.com/obituaries/joy-ann-barrow
LOCATION: 7453 Old Alexandria Ferry Rd  Clinton MD 20735
GEO:38.7808945;-76.8775575
END:VEVENT
END:VCALENDAR