BEGIN:VCALENDAR
VERSION:2.0
PRODID:-//Tukios.com/
BEGIN:VEVENT
UID:185f601c-c3f6-41bf-9242-d774289dd40a@www.chosenfuneralhome.com
DTSTAMP:20260423T013541Z
DTSTART:20260425T140000Z
DTEND:20260425T150000Z
SUMMARY:Visitation
DESCRIPTION:
URL:https://www.chosenfuneralhome.com/obituaries/joy-ann-barrow
LOCATION: 7453 Old Alexandria Ferry Rd  Clinton MD 20735
GEO:38.7808945;-76.8775575
END:VEVENT
END:VCALENDAR