BEGIN:VCALENDAR
VERSION:2.0
PRODID:-//Tukios.com/
BEGIN:VEVENT
UID:4c3c4381-3fa9-424a-b0b0-3664f4c3dec2@www.chosenfuneralhome.com
DTSTAMP:20260424T185351Z
DTSTART:20260430T150000Z
DTEND:20260430T163000Z
SUMMARY:Funeral Service
DESCRIPTION:
URL:https://www.chosenfuneralhome.com/obituaries/andre-harris-jr
LOCATION: 8829 Greenbelt Rd  Greenbelt MD 20770
GEO:38.9892029;-76.8531349
END:VEVENT
END:VCALENDAR