BEGIN:VCALENDAR
VERSION:2.0
PRODID:-//Tukios.com/
BEGIN:VEVENT
UID:218342ca-3cf7-4bc7-b137-f45ecf0fdc71@www.chosenfuneralhome.com
DTSTAMP:20260424T185202Z
DTSTART:20260430T140000Z
DTEND:20260430T150000Z
SUMMARY:Viewing
DESCRIPTION:
URL:https://www.chosenfuneralhome.com/obituaries/andre-harris-jr
LOCATION:Zion Church Greenbelt 8829 Greenbelt Rd  Greenbelt MD 20770
GEO:38.9892029;-76.8531349
END:VEVENT
END:VCALENDAR